BEGIN:VCALENDAR
PRODID:-//eluceo/ical//2.0/EN
VERSION:2.0
CALSCALE:GREGORIAN
BEGIN:VEVENT
UID:63b6f239d95d171f98bc1756ef1f18fe
DTSTAMP:20260421T052523Z
SUMMARY:Yom Ha’atzmaut Israeli Independence Day--Connecting with Communit
 y Lunch
DESCRIPTION:Jewish Federation of the Berkshires\nJewish Federation of the B
 erkshires\nhttps://jewishberkshires.org/jewish-federation-of-the-berkshire
 s/yom-haatzmautisraeli-independence-day-486605\n\nJoin us for a delicious 
 kosher lunch to celebrate Israel’s 77th birthday featuring falafel\, hum
 mus\, salads and other yummy tastes of Israeli and Middle Eastern foods. 
 Dara Kaufman will share an overview of her most recent trip to Israel.\n\n
 Conversation with a home-cooked kosher lunch around our community table. 
  All are welcome! \n\nAdvance lunch reservations are required and can be 
 made by calling (413) 442-2200 before 9 a.m. on the day BEFORE the lunch (
 Wed). Suggested donation of $3...
DTSTART;TZID=America/New_York:20250501T120000
DTEND;TZID=America/New_York:20250501T130000
END:VEVENT
END:VCALENDAR
