BEGIN:VCALENDAR
PRODID:-//eluceo/ical//2.0/EN
VERSION:2.0
CALSCALE:GREGORIAN
BEGIN:VEVENT
UID:ed31f72f1fd7d830872fd65afa0b6f6d
DTSTAMP:20260421T175419Z
SUMMARY:Yiddish Poetry in Translation
DESCRIPTION:Jewish Federation of the Berkshires\nJewish Federation of the B
 erkshires\nhttps://jewishberkshires.org/jewish-federation-of-the-berkshire
 s/yiddish-poetry-in-translation-250204\n\nThe Jewish Federation Connecting
  with Community presents "Yiddish Poetry in Translation" with Diana Bregma
 n Feld.
DTSTART;TZID=America/New_York:20171221T104500
DTEND;TZID=America/New_York:20171221T120000
END:VEVENT
END:VCALENDAR
