BEGIN:VCALENDAR
PRODID:-//eluceo/ical//2.0/EN
VERSION:2.0
CALSCALE:GREGORIAN
BEGIN:VEVENT
UID:554d38e9bfdd0d79cbc2a40d598a688c
DTSTAMP:20260421T231706Z
SUMMARY:Yearning to Breathe Free: Live Theater Presented on Zoom
DESCRIPTION:Jewish Federation of the Berkshires\nJewish Federation of the B
 erkshires\nhttps://jewishberkshires.org/jewish-federation-of-the-berkshire
 s/yearning-to-breathe-free-live-theater-presented-on-zoom-448715\n\nVirtua
 l program. Please register by clicking HERE. \n\nZoom link will only be 
 provided to registered attendees TWO DAYS BEFORE the program.   Please 
 watch your email for it.\n\nComing to America from across the globe\, we a
 re one Jewish spirit. Experience a dozen true\, contemporary Jewish immig
 rant stories performed by professional actors that explore leaving one's
  home for a new nation.\n\nAcclaimed memoirist and novelist André Aciman 
 reveals the ironic pain of celebrating a seder w...
DTSTART;TZID=America/New_York:20240328T190000
DTEND;TZID=America/New_York:20240328T203000
END:VEVENT
END:VCALENDAR
