BEGIN:VCALENDAR
PRODID:-//eluceo/ical//2.0/EN
VERSION:2.0
CALSCALE:GREGORIAN
BEGIN:VEVENT
UID:7ee854ed2d9e5bbf7159f0f69e497cd5
DTSTAMP:20260421T153905Z
SUMMARY:Workshop – “Building BRIDGE: A Vision of an Inclusive Community
 ”
DESCRIPTION:Jewish Federation of the Berkshires\nJewish Federation of the B
 erkshires\nhttps://jewishberkshires.org/jewish-federation-of-the-berkshire
 s/workshop-building-bridge-a-vision-of-an-inclusive-community-185600\n\nTh
 e Jewish Federation of the Berkshires Connecting with Community presents 
 “Building BRIDGE: A Vision of\nan Inclusive Community\,” an introducti
 on to Multicultural BRIDGE\, a Pittsfield-based group that convenes groups
  for training related to issues of diversity and cultural competence. 
DTSTART;TZID=America/New_York:20160512T104500
DTEND;TZID=America/New_York:20160512T120000
END:VEVENT
END:VCALENDAR
