BEGIN:VCALENDAR
PRODID:-//eluceo/ical//2.0/EN
VERSION:2.0
CALSCALE:GREGORIAN
BEGIN:VEVENT
UID:9b4de4d36380c22f53db71f278c5eec6
DTSTAMP:20260420T072758Z
SUMMARY:Wild West Jewish Cowboy Clowns in Music\, Rodeos\, and Animation
DESCRIPTION:Jewish Federation of the Berkshires\nJewish Federation of the B
 erkshires\nhttps://jewishberkshires.org/jewish-federation-of-the-berkshire
 s/wild-west-jewish-cowboy-clowns-in-music-rodeos-and-animation-195923\n\nM
 usic historian Aaron Manela will give a multimedia presentation co-sponsor
 ed by the Jewish Federation of\nthe Berkshires entitled “Khosn Cowboy Ma
 zl Tov: Wild West Jewish Cowboy Clowns in Music\, Rodeos and Animation.”
DTSTART;TZID=America/New_York:20160803T113000
DTEND;TZID=America/New_York:20160803T140000
END:VEVENT
END:VCALENDAR
