BEGIN:VCALENDAR
PRODID:-//eluceo/ical//2.0/EN
VERSION:2.0
CALSCALE:GREGORIAN
BEGIN:VEVENT
UID:178aecc189cb1e4ec0e733a724c4fa0f
DTSTAMP:20260421T014558Z
SUMMARY:Why is Breast Cancer an Issue for the Jewish Community?
DESCRIPTION:Jewish Federation of the Berkshires\nJewish Federation of the B
 erkshires\nhttps://jewishberkshires.org/jewish-federation-of-the-berkshire
 s/why-is-breast-cancer-an-issue-for-the-jewish-community-204753\n\nThe Jew
 ish Federation Connecting with Community series presents "Why is Breast Ca
 ncer an Issue for the Jewish Community?" 
DTSTART;TZID=America/New_York:20161013T104500
DTEND;TZID=America/New_York:20161013T120000
END:VEVENT
END:VCALENDAR
