BEGIN:VCALENDAR
PRODID:-//eluceo/ical//2.0/EN
VERSION:2.0
CALSCALE:GREGORIAN
BEGIN:VEVENT
UID:6b9fb840b063f76f64be417de6a407aa
DTSTAMP:20260421T232900Z
SUMMARY:Virtually Limitless: Our Shared Shelf Monthly Book & Author Series
DESCRIPTION:Jewish Federation of the Berkshires\nJewish Federation of the B
 erkshires\nhttps://jewishberkshires.org/jewish-federation-of-the-berkshire
 s/virtually-limitless-our-shared-shelf-monthly-book-author-series------374
 515\n\nJoin Federation\, in collaboration with the JFNA National Women's 
 Philanthropy and the Jewish Book Council\, for this monthly book and autho
 r series. Free and open to all women donors to the Federation\, at any lev
 el. Register here and you will receive invites to each monthly event. P
 urchase the book here and portion of the proceeds will be donated back t
 o the local Bookstore in Lenox. Click here to see the full calendar.\n\n
 The Great Kosher Meat War of 1902 with author Scott Seligman o...
DTSTART;TZID=America/New_York:20210317T200000
DTEND;TZID=America/New_York:20210317T210000
END:VEVENT
END:VCALENDAR
