BEGIN:VCALENDAR
PRODID:-//eluceo/ical//2.0/EN
VERSION:2.0
CALSCALE:GREGORIAN
BEGIN:VEVENT
UID:6ee2d177f59aa1c839be270caf5d49ab
DTSTAMP:20260420T160955Z
SUMMARY:Under Siege: The Addiction Epidemic
DESCRIPTION:Jewish Federation of the Berkshires\nJewish Federation of the B
 erkshires\nhttps://jewishberkshires.org/jewish-federation-of-the-berkshire
 s/under-siege-the-addiction-epidemic-232093\n\nThe Jewish Federation Conne
 cting with Community program presents 'Under Siege: The Addiction Epidemic
  and What We Can Do to Help." 
DTSTART;TZID=America/New_York:20170706T104500
DTEND;TZID=America/New_York:20170706T120000
END:VEVENT
END:VCALENDAR
