BEGIN:VCALENDAR
PRODID:-//eluceo/ical//2.0/EN
VERSION:2.0
CALSCALE:GREGORIAN
BEGIN:VEVENT
UID:3cdf98a408fee59f7f245a4b894480f1
DTSTAMP:20260422T190919Z
SUMMARY:"Tzedakah Sunday"
DESCRIPTION:Jewish Federation of the Berkshires\nJewish Federation of the B
 erkshires\nhttps://jewishberkshires.org/jewish-federation-of-the-berkshire
 s/tzedakah-sunday-356294\n\nSave The Date\n\nMore Info to Follow
DTSTART;TZID=America/New_York:20200816T090000
DTEND;TZID=America/New_York:20200816T120000
END:VEVENT
END:VCALENDAR
