BEGIN:VCALENDAR
PRODID:-//eluceo/ical//2.0/EN
VERSION:2.0
CALSCALE:GREGORIAN
BEGIN:VEVENT
UID:2ab14e73c7da87282bc1505d93b2f5c3
DTSTAMP:20260419T191336Z
SUMMARY:Traveler's Prayer: Live Theater on Zoom with The Braid
DESCRIPTION:Jewish Federation of the Berkshires\nJewish Federation of the B
 erkshires\nhttps://jewishberkshires.org/jewish-federation-of-the-berkshire
 s/travelers-prayer-live-theater-on-zoom-with-the-braid-474923\n\nVia Zoom.
  Please register by clicking HERE After registering\, you will receive a 
 confirmation email two days before the program containing information abou
 t joining the meeting.\n\nTraveler’s Prayer\, a heartfelt and powerful n
 ew theatre show full of true Jewish travel stories\, is about more than Je
 wish people’s journeys through the world. Against the backdrop of rising
  antisemitism\, this collection of authentic voices captures the journey t
 hrough the world of the Jewish people itself.\n...
DTSTART;TZID=America/New_York:20250206T190000
DTEND;TZID=America/New_York:20250206T201500
END:VEVENT
END:VCALENDAR
