BEGIN:VCALENDAR
PRODID:-//eluceo/ical//2.0/EN
VERSION:2.0
CALSCALE:GREGORIAN
BEGIN:VEVENT
UID:2491cc8627e2aeeff3ede922869ecb90
DTSTAMP:20260425T204021Z
SUMMARY:Tilda's Promise
DESCRIPTION:Jewish Federation of the Berkshires\nJewish Federation of the B
 erkshires\nhttps://jewishberkshires.org/jewish-federation-of-the-berkshire
 s/tildas-promise-297996\n\nThrough the prism of her new novel\, Tilda's Pr
 omise\, Jean P. Moore will explore the subjects of love\, loss and new beg
 innings.
DTSTART;TZID=America/New_York:20190307T104500
DTEND;TZID=America/New_York:20190307T120000
END:VEVENT
END:VCALENDAR
