BEGIN:VCALENDAR
PRODID:-//eluceo/ical//2.0/EN
VERSION:2.0
CALSCALE:GREGORIAN
BEGIN:VEVENT
UID:28391fadae27c7c04c60da97ce872e76
DTSTAMP:20260423T074436Z
SUMMARY:The World of Jewish Mustard
DESCRIPTION:Jewish Federation of the Berkshires\nJewish Federation of the B
 erkshires\nhttps://jewishberkshires.org/jewish-federation-of-the-berkshire
 s/the-world-of-jewish-mustard-418363\n\nVirtual Program.  Register for li
 nk HERE.\n\n Is mustard the "Jewish Condiment?" Barry Levenson\, founder 
 and Curator of the National Mustard Museum (and a nice Jewish boy who almo
 st became a rabbi)\, will present a delightful program on mustard and its
  relation to Jewish culture and cuisine.\n\nTradition tells us that when A
 braham greeted strangers with food\, he served mustard with tongue. Does "
 Jewish mustard" have to be kosher?  Are there some typically Jewish foods
  that must be served w...
DTSTART;TZID=America/New_York:20230202T184500
DTEND;TZID=America/New_York:20230202T194500
END:VEVENT
END:VCALENDAR
