BEGIN:VCALENDAR
PRODID:-//eluceo/ical//2.0/EN
VERSION:2.0
CALSCALE:GREGORIAN
BEGIN:VEVENT
UID:a2291e1c8bf0c344c0c71d563f64f3e0
DTSTAMP:20260422T030100Z
SUMMARY:"The World Before Your Feet" with Matt Green and his walk across Am
 erica
DESCRIPTION:Jewish Federation of the Berkshires\nJewish Federation of the B
 erkshires\nhttps://jewishberkshires.org/jewish-federation-of-the-berkshire
 s/the-world-before-your-feet-375126\n\nCross-Country sojourner Matt Green 
 on his efforts to traverse every block in New York City
DTSTART;TZID=America/New_York:20210419T184500
DTEND;TZID=America/New_York:20210419T194500
END:VEVENT
END:VCALENDAR
