BEGIN:VCALENDAR
PRODID:-//eluceo/ical//2.0/EN
VERSION:2.0
CALSCALE:GREGORIAN
BEGIN:VEVENT
UID:3eb5455ff2b9b4681f0380aa427280da
DTSTAMP:20260421T114418Z
SUMMARY:The State of Refugees & Immigration 2017
DESCRIPTION:Jewish Federation of the Berkshires\nJewish Federation of the B
 erkshires\nhttps://jewishberkshires.org/jewish-federation-of-the-berkshire
 s/the-state-of-refugees-immigration-2017-221544\n\nThe State of Refugees &
  Immigration 2017 with Guest Speaker: Liz Robbins\, New York Times reporte
 r on Immigration
DTSTART;TZID=America/New_York:20170430T120000
DTEND;TZID=America/New_York:20170430T140000
END:VEVENT
END:VCALENDAR
