BEGIN:VCALENDAR
PRODID:-//eluceo/ical//2.0/EN
VERSION:2.0
CALSCALE:GREGORIAN
BEGIN:VEVENT
UID:33be8ebc1f857d3c15a088209b54d2fb
DTSTAMP:20260421T193710Z
SUMMARY:The State of Jewish Hate in 2024
DESCRIPTION:Jewish Federation of the Berkshires\nJewish Federation of the B
 erkshires\nhttps://jewishberkshires.org/jewish-federation-of-the-berkshire
 s/the-state-of-jewish-hate-in-2024-458561\n\nJewish Community discussion o
 n The State of Jewish Hate in 2024 with Rabbi Ron Fish\, ADL Northeast Div
 ision Director of Antisemitism Advocacy and Education.  Learn what the AD
 L is seeing in terms of antisemitism locally and nationally and how it is 
 responding.  Presentation followed by Q & A.\n\nRabbi Ron Fish leads ADL
 ’s advocacy and education initiatives on college and university campuses
 . His work is centered in ADL’s Northeast Division\, which includes the
  six New England states\, Ne...
DTSTART;TZID=America/New_York:20240317T160000
DTEND;TZID=America/New_York:20240317T173000
END:VEVENT
END:VCALENDAR
