BEGIN:VCALENDAR
PRODID:-//eluceo/ical//2.0/EN
VERSION:2.0
CALSCALE:GREGORIAN
BEGIN:VEVENT
UID:b0e35f7c62e78c5f756faa7d1f346b0d
DTSTAMP:20260419T171958Z
SUMMARY:Community Holocaust Commemoration: The Secret Diary of Odd Nansen
DESCRIPTION:Jewish Federation of the Berkshires\nJewish Federation of the B
 erkshires\nhttps://jewishberkshires.org/jewish-federation-of-the-berkshire
 s/the-secret-wwii-concentration-camp-diary-of-odd-nansen-375170\n\nA docum
 ent The New Yorker hailed as “among the most compelling documents to com
 e out of the war”
DTSTART;TZID=America/New_York:20210401T193000
DTEND;TZID=America/New_York:20210401T203000
END:VEVENT
END:VCALENDAR
