BEGIN:VCALENDAR
PRODID:-//eluceo/ical//2.0/EN
VERSION:2.0
CALSCALE:GREGORIAN
BEGIN:VEVENT
UID:d2f3cb559c90c33440410ab2227cf548
DTSTAMP:20260422T185941Z
SUMMARY:The Reverend Samuel Harrison: Abolitionist\, Activist\, Chaplain
DESCRIPTION:Jewish Federation of the Berkshires\nJewish Federation of the B
 erkshires\nhttps://jewishberkshires.org/jewish-federation-of-the-berkshire
 s/the-reverend-samuel-harrison-abolitionist-activist-chaplain-241095\n\nTh
 e Jewish Federation Connecting with Community hosts author/biographer\, An
 n-Elizabeth Barnes\, for The Reverend Samuel Harrison: Abolitionist\, Acti
 vist\, and Chaplain of Pittsfield's Second Congregational Church in 1850.
DTSTART;TZID=America/New_York:20170907T104500
DTEND;TZID=America/New_York:20170907T120000
END:VEVENT
END:VCALENDAR
