BEGIN:VCALENDAR
PRODID:-//eluceo/ical//2.0/EN
VERSION:2.0
CALSCALE:GREGORIAN
BEGIN:VEVENT
UID:8d5baf41158707785a3ec6c991c1eaee
DTSTAMP:20260424T013553Z
SUMMARY:2018 Middle East Update - A Game of Pawns
DESCRIPTION:Jewish Federation of the Berkshires\nJewish Federation of the B
 erkshires\nhttps://jewishberkshires.org/jewish-federation-of-the-berkshire
 s/the-middle-east-2018-the-game-of-pawns-264707\n\nThe Middle East Update 
 2018 with Ralph Nurnberger\n\nWhat forces are shaping today's Middle East?
   Professor of International Relations and Government Affairs Specialist\
 , Dr. Ralph Nurnberger\, will take you beyond the headlines on a journey t
 hrough this most dangerous of global neighborhoods to better understnad th
 e multi-dimensional\, multi-faceted players of the Middle East today.\n\nR
 alph Nurnberger has held senior positions in both the legislative and exec
 utive branch of government\, as we...
DTSTART;TZID=America/New_York:20181104T193000
DTEND;TZID=America/New_York:20181104T213000
END:VEVENT
END:VCALENDAR
