BEGIN:VCALENDAR
PRODID:-//eluceo/ical//2.0/EN
VERSION:2.0
CALSCALE:GREGORIAN
BEGIN:VEVENT
UID:b2773643920b28b22ef12652847cf3f5
DTSTAMP:20260422T195556Z
SUMMARY:The Lost Multi-Cultural World of Medieval Spain
DESCRIPTION:Jewish Federation of the Berkshires\nJewish Federation of the B
 erkshires\nhttps://jewishberkshires.org/jewish-federation-of-the-berkshire
 s/the-lost-multi-cultural-world-of-medieval-spain-394873\n\nVia Zoom\n\nRe
 gister Here\n\nWhen Ferdinand and Isabella became rulers in Spain a powerf
 ul alliance of church and state erased evidence of Spain's previous divers
 e culture.  It is only since the death of Franco in 1975 that scholars ha
 ve been allowed to investigate the vibrant\, hybrid medieval Spanish world
 .  This talk will focus on the production of illuminated manuscripts\, es
 pecially the "Golden Haggadah"  to illustrate the shared use of cultural 
 images in the King's scriptorium.  Repre...
DTSTART;TZID=America/New_York:20220223T103000
DTEND;TZID=America/New_York:20220223T113000
END:VEVENT
END:VCALENDAR
