BEGIN:VCALENDAR
PRODID:-//eluceo/ical//2.0/EN
VERSION:2.0
CALSCALE:GREGORIAN
BEGIN:VEVENT
UID:ca4dabcb86c7758d6efb7d53f84a76e0
DTSTAMP:20260422T134251Z
SUMMARY:The Life and Music of George Frederick Root
DESCRIPTION:Jewish Federation of the Berkshires\nJewish Federation of the B
 erkshires\nhttps://jewishberkshires.org/jewish-federation-of-the-berkshire
 s/the-life-and-music-of-george-frederick-root-333861\n\n"Music in the Air:
  The Life and Music of George Frederick Root\, A Berkshire County Native S
 on."
DTSTART;TZID=America/New_York:20191219T104500
DTEND;TZID=America/New_York:20191219T120000
END:VEVENT
END:VCALENDAR
