BEGIN:VCALENDAR
PRODID:-//eluceo/ical//2.0/EN
VERSION:2.0
CALSCALE:GREGORIAN
BEGIN:VEVENT
UID:72fde27091f6bdf54ad5a24c5ad0213c
DTSTAMP:20260424T052603Z
SUMMARY:The Jews of Turkey: Yesterday\, Today and Maybe Tomorrow
DESCRIPTION:Jewish Federation of the Berkshires\nJewish Federation of the B
 erkshires\nhttps://jewishberkshires.org/jewish-federation-of-the-berkshire
 s/the-jews-of-turkey-yesterday-today-and-maybe-tomorrow-274098\n\nKnosh & 
 Knowledge The Jews of Turkey: Yesterday\, Today and Maybe Tomorrow
DTSTART;TZID=America/New_York:20180803T104500
DTEND;TZID=America/New_York:20180803T130000
END:VEVENT
END:VCALENDAR
