BEGIN:VCALENDAR
PRODID:-//eluceo/ical//2.0/EN
VERSION:2.0
CALSCALE:GREGORIAN
BEGIN:VEVENT
UID:1580bc99f969be892549eacbbad3fbb0
DTSTAMP:20260424T020002Z
SUMMARY:The Jews of Palestine in World War II
DESCRIPTION:Jewish Federation of the Berkshires\nJewish Federation of the B
 erkshires\nhttps://jewishberkshires.org/jewish-federation-of-the-berkshire
 s/the-jews-of-palestine-in-world-war-ii-307454\n\nKnosh & Knowledge Choosi
 ng Enemies: The Jews of Palestine in World War II
DTSTART;TZID=America/New_York:20190628T104500
DTEND;TZID=America/New_York:20190628T120000
END:VEVENT
END:VCALENDAR
