BEGIN:VCALENDAR
PRODID:-//eluceo/ical//2.0/EN
VERSION:2.0
CALSCALE:GREGORIAN
BEGIN:VEVENT
UID:e16c6eb02ff7328a4b554429e1035daf
DTSTAMP:20260420T233052Z
SUMMARY:The Impact of Contemporary Holocaust Memorials on our Community
DESCRIPTION:Jewish Federation of the Berkshires\nJewish Federation of the B
 erkshires\nhttps://jewishberkshires.org/jewish-federation-of-the-berkshire
 s/the-impact-of-contemporary-holocaust-memorials-on-our-community-397739\n
 \nVia Zoom\n\nRegister Here\n\nIn conversation with Dr. Carol Salus\, art 
 historian\, we will mark Yom HaShoah and look at a variety of European an
 d American Holocaust monuments\, and consider is it even possible to repre
 sent a catastrophe of such immense proportions?  Is either of these visua
 l languages---figurative or abstract---more effective in addressing the m
 ass murders and countless other crimes?  How does an architect\, sculpto
 r\, or painter design a structure for now as well as future ...
DTSTART;TZID=America/New_York:20220428T184500
DTEND;TZID=America/New_York:20220428T194500
END:VEVENT
END:VCALENDAR
