BEGIN:VCALENDAR
PRODID:-//eluceo/ical//2.0/EN
VERSION:2.0
CALSCALE:GREGORIAN
BEGIN:VEVENT
UID:bc772df744d03e6c439729f9e5207c27
DTSTAMP:20260423T171413Z
SUMMARY:Reflections on Antisemitism and the Cautionary Tale of Cabaret
DESCRIPTION:Jewish Federation of the Berkshires\nJewish Federation of the B
 erkshires\nhttps://jewishberkshires.org/jewish-federation-of-the-berkshire
 s/the-history-of-arrowhead-with-lesley-herzberg-431990\n\nRegistration Opt
 ions:\n\nClick HERE to register through Jewish Federation of the Berkshire
 s.\n\nOR   Call the Barrington Stage Box Office: 413-235-8888\n\nOR   
  If you have an account with Barrington Stage Company\, register HERE.\n\
 nJoin a discussion with Jewish thought leaders on the relevance of art and
  theater in promoting understanding and combating antisemitism. There will
  be a 10:00 a.m. coffee and bagel reception in the Boyd-Quinson Stage Lobb
 y. The Panel discussion begins at 10:4...
DTSTART;TZID=America/New_York:20230629T104500
DTEND;TZID=America/New_York:20230629T114500
END:VEVENT
END:VCALENDAR
