BEGIN:VCALENDAR
PRODID:-//eluceo/ical//2.0/EN
VERSION:2.0
CALSCALE:GREGORIAN
BEGIN:VEVENT
UID:e2b34f81ede0a615435d94dafe4ddc6d
DTSTAMP:20260422T200000Z
SUMMARY:The Cinema Dimension of Holocaust Remembrance
DESCRIPTION:Jewish Federation of the Berkshires\nJewish Federation of the B
 erkshires\nhttps://jewishberkshires.org/jewish-federation-of-the-berkshire
 s/the-cinema-dimension-of-holocaust-remembrance-397030\n\n \n\nIn recogni
 tion of International Holocaust Day\, Afula-Gilboa & SNEC Partnership invi
 te you to a fascinating session with Israeli filmmaker Itay Ken-Tor\, who 
 will share documentaries that have never been seen before and will tell th
 e story of the Holocaust as it is reflected in the cinema. Ken-Tor is a fi
 lmmaker and educator who co-produced all of the films at Yad Vashem Museum
  and produced the award-winning film\, A Film Unfinished. More info and 
 register
DTSTART;TZID=America/New_York:20220130T140000
DTEND;TZID=America/New_York:20220130T160000
END:VEVENT
END:VCALENDAR
