BEGIN:VCALENDAR
PRODID:-//eluceo/ical//2.0/EN
VERSION:2.0
CALSCALE:GREGORIAN
BEGIN:VEVENT
UID:ade94aaace0d38e48fa31c59a5b60968
DTSTAMP:20260419T221842Z
SUMMARY:"Ulysses S. Grant\, the Law and Order President: Did Black Lives Ma
 tter?"
DESCRIPTION:Jewish Federation of the Berkshires\nJewish Federation of the B
 erkshires\nhttps://jewishberkshires.org/jewish-federation-of-the-berkshire
 s/the-career-of-ulysses-s-grant-205889\n\nThe Jewish Federation of the Ber
 kshires presents: Knosh & Knowledge The Career of Ulysses S. Grant with Ra
 ndy F. Weinstein\, owner of North Star Rare Books and founder of the W.E.B
 . DuBois Center
DTSTART;TZID=America/New_York:20161014T104500
DTEND;TZID=America/New_York:20161014T130000
END:VEVENT
END:VCALENDAR
