BEGIN:VCALENDAR
PRODID:-//eluceo/ical//2.0/EN
VERSION:2.0
CALSCALE:GREGORIAN
BEGIN:VEVENT
UID:afba3b78c26818919ec8910f462f512b
DTSTAMP:20260423T055439Z
SUMMARY:The Blacklist Dream via ZOOM
DESCRIPTION:Jewish Federation of the Berkshires\nJewish Federation of the B
 erkshires\nhttps://jewishberkshires.org/jewish-federation-of-the-berkshire
 s/the-blacklist-dream-343625\n\nexperience under the Hollywood blacklist o
 f the 1940s and 1950s
DTSTART;TZID=America/New_York:20200518T104500
DTEND;TZID=America/New_York:20200518T120000
END:VEVENT
END:VCALENDAR
