BEGIN:VCALENDAR
PRODID:-//eluceo/ical//2.0/EN
VERSION:2.0
CALSCALE:GREGORIAN
BEGIN:VEVENT
UID:c4d4638107e8698373cbfba8ca5e31d4
DTSTAMP:20260424T135219Z
SUMMARY:The Art of Papermaking with The Crane Museum
DESCRIPTION:Jewish Federation of the Berkshires\nJewish Federation of the B
 erkshires\nhttps://jewishberkshires.org/jewish-federation-of-the-berkshire
 s/the-art-of-paper-making-with-dennis-croughwell-from-the-crane-museum-431
 485\n\nThe Festival of Shavuot (May 25-27) is often associated with the de
 licate art of paper cutting.  This presentation will take us back further
  in the process to explore the art and science of papermaking.  Led by De
 nnis Croughwell\, a papermaker for more than 40 years with Crane and a doc
 ent with the Crane Museum of Papermaking\, we will learn not only about th
 e history of the beautiful Crane stationery that many have used for person
 al and professional letter writing\, but also about Crane’s t...
DTSTART;TZID=America/New_York:20230518T104500
DTEND;TZID=America/New_York:20230518T114500
END:VEVENT
END:VCALENDAR
