BEGIN:VCALENDAR
PRODID:-//eluceo/ical//2.0/EN
VERSION:2.0
CALSCALE:GREGORIAN
BEGIN:VEVENT
UID:e17e097c3d0d8af4e65a0a83d671314f
DTSTAMP:20260422T022628Z
SUMMARY:The Art and Science of Medical Music
DESCRIPTION:Jewish Federation of the Berkshires\nJewish Federation of the B
 erkshires\nhttps://jewishberkshires.org/jewish-federation-of-the-berkshire
 s/the-art-and-science-of-medical-music-267840\n\nJewish Federation Connect
 ing with Community presents "The Art and Science of Medical Music" with pr
 ofessional musician\, Andrew Schulman.
DTSTART;TZID=America/New_York:20180531T104500
DTEND;TZID=America/New_York:20180531T120000
END:VEVENT
END:VCALENDAR
