BEGIN:VCALENDAR
PRODID:-//eluceo/ical//2.0/EN
VERSION:2.0
CALSCALE:GREGORIAN
BEGIN:VEVENT
UID:1f5775b68ffa86dc369ef66b4966e73a
DTSTAMP:20260423T170238Z
SUMMARY:The 3-Dimensional Watercolor Paintings of Robin Brickman
DESCRIPTION:Jewish Federation of the Berkshires\nJewish Federation of the B
 erkshires\nhttps://jewishberkshires.org/jewish-federation-of-the-berkshire
 s/the-3-dimensional-watercolor-paintings-of-robin-brickman-169119\n\nJewis
 h Federation of the Berkshires Connecting with Community Artist Demonstrat
 ion: “The 3-Dimensional Watercolor Paintings of Robin Brickman.” 
DTSTART;TZID=America/New_York:20151130T104500
DTEND;TZID=America/New_York:20151130T120000
END:VEVENT
END:VCALENDAR
