BEGIN:VCALENDAR
PRODID:-//eluceo/ical//2.0/EN
VERSION:2.0
CALSCALE:GREGORIAN
BEGIN:VEVENT
UID:d38f84ce010460f1eb394fda590ad80a
DTSTAMP:20260421T010545Z
SUMMARY:Telling our Stories in Print and Out Loud
DESCRIPTION:Jewish Federation of the Berkshires\nJewish Federation of the B
 erkshires\nhttps://jewishberkshires.org/jewish-federation-of-the-berkshire
 s/telling-our-stories-in-print-and-out-loud-165155\n\nThe Jewish Federatio
 n of the Berkshires' Connecting with Community series will be joined by Th
 e Berkshire Jewish Voice’s editor Albert Stern for "Telling Our Stories 
 in Print and Out Loud."  
DTSTART;TZID=America/New_York:20161103T104500
DTEND;TZID=America/New_York:20161103T120000
END:VEVENT
END:VCALENDAR
