BEGIN:VCALENDAR
PRODID:-//eluceo/ical//2.0/EN
VERSION:2.0
CALSCALE:GREGORIAN
BEGIN:VEVENT
UID:4661778a470a0cf0e892ae8db8cea06d
DTSTAMP:20260421T095139Z
SUMMARY:Teachers: The Ones I Can't Forget
DESCRIPTION:Jewish Federation of the Berkshires\nJewish Federation of the B
 erkshires\nhttps://jewishberkshires.org/jewish-federation-of-the-berkshire
 s/teachers-the-ones-i-cant-forget-442752\n\nVia Zoom.  Register HERE.\n\n
 Jewish Literary Voices: A Jewish Federation of the Berkshires Series in co
 llaboration with Jewish Book Council\n\nTeachers are the people Martin F
 letcher met throughout his work as a news correspondent\, often on the wor
 st day of their lives. He watched as they picked up the pieces following p
 ersonal tragedy and discovered the invaluable lesson of carrying on\, no m
 atter the circumstances. \n\nThrough intimate profiles\, Martin Fletcher
 ’s Teachers details the...
DTSTART;TZID=America/New_York:20240208T190000
DTEND;TZID=America/New_York:20240208T200000
END:VEVENT
END:VCALENDAR
