BEGIN:VCALENDAR
PRODID:-//eluceo/ical//2.0/EN
VERSION:2.0
CALSCALE:GREGORIAN
BEGIN:VEVENT
UID:2d329cac792fe1c4650dc0ea4d1560a2
DTSTAMP:20260420T175937Z
SUMMARY:Taking the High Road:  Berkshires Natural Resources Council Walk
DESCRIPTION:Jewish Federation of the Berkshires\nJewish Federation of the B
 erkshires\nhttps://jewishberkshires.org/jewish-federation-of-the-berkshire
 s/taking-the-high-road-berkshires-natural-resources-council-walk-403950\n\
 nPlease note:Â  Proof of vaccination for those eligible is required.Â  Mas
 ks are optional but encouraged.\n\nDo you love the exquisiteness of the Be
 rkshires?Â  JoinÂ Mariah Auman andÂ Charlotte Hood for aÂ guided walk at P
 arsons Marsh.\n\nIn preparation for the month of Elul\, take a deep breath
  and join us for aÂ late morning walkÂ in the beauty of the natural world 
 together with BNRCâ€™s Mariah Auman\, Community Conservation Manager\, and
  Charlotte Hood\, Volunteer and Outreach Assistant at theÂ...
DTSTART;TZID=America/New_York:20220825T104500
DTEND;TZID=America/New_York:20220825T120000
END:VEVENT
END:VCALENDAR
