BEGIN:VCALENDAR
PRODID:-//eluceo/ical//2.0/EN
VERSION:2.0
CALSCALE:GREGORIAN
BEGIN:VEVENT
UID:8bff6152d2e346423fd74686de961de7
DTSTAMP:20260421T151634Z
SUMMARY:Symphony on Fire: Spiritual Resistance During the Holocaust
DESCRIPTION:Jewish Federation of the Berkshires\nJewish Federation of the B
 erkshires\nhttps://jewishberkshires.org/jewish-federation-of-the-berkshire
 s/symphony-on-fire-261941\n\nThe Jewish Federation of the Berkshires prese
 nts: Knosh & Knowledge "Symphony on Fire: Spiritual Resistance During the 
 Holocaust"
DTSTART;TZID=America/New_York:20180413T104500
DTEND;TZID=America/New_York:20180413T130000
END:VEVENT
END:VCALENDAR
