BEGIN:VCALENDAR
PRODID:-//eluceo/ical//2.0/EN
VERSION:2.0
CALSCALE:GREGORIAN
BEGIN:VEVENT
UID:f25e71ff950e2ddaf21d8ed6b74253e3
DTSTAMP:20260422T033642Z
SUMMARY:Sweet Treats and Rosh Hashanah Greetings at Guido's Pittsfield/Leno
 x
DESCRIPTION:Jewish Federation of the Berkshires\nJewish Federation of the B
 erkshires\nhttps://jewishberkshires.org/jewish-federation-of-the-berkshire
 s/sweet-treats-and-rosh-hashanah-greetings-at-guidos-pittsfieldlenox-41724
 1\n\nWed. Sept. 21--Guido's in Great Barrington\, 760 South Main St\, 12:0
 0-4:00pm\n\nThurs\, Sept. 22--Guido's in Pittsfield/Lenox\, 1020 South St.
 \, 12:00-4:00pm\n\nThe Jewish Federation of the Berkshires will be in-stor
 e at Guido's Fresh Market Place to share sweet tastings and holiday gree
 tings for the Jewish New Year.  Stop by to share holiday wishes for a Sha
 nah Tovah\, enjoy sweet treats holiday resources\, and enter to win a “s
 weet” Guido’s gift basket.  Chef Michael Twitty's book\, K...
DTSTART;TZID=America/New_York:20220922T120000
DTEND;TZID=America/New_York:20220922T160000
END:VEVENT
END:VCALENDAR
