BEGIN:VCALENDAR
PRODID:-//eluceo/ical//2.0/EN
VERSION:2.0
CALSCALE:GREGORIAN
BEGIN:VEVENT
UID:f8b6c832b4f4967a435b1a86b7a3e5a4
DTSTAMP:20260422T192115Z
SUMMARY:Protecting Nature in the Berkshires for the Benefit of People and W
 ildlife
DESCRIPTION:Jewish Federation of the Berkshires\nJewish Federation of the B
 erkshires\nhttps://jewishberkshires.org/jewish-federation-of-the-berkshire
 s/sustaining-conservation-land-in-the-berkshires-with-mass-audubon-432962\
 n\nDo you feel a sense of restoration and rebalancing when you are in natu
 re? \n\nBecky Cushing Gop is an award-winning environmental educator and
  Director of Mass Audubon West\, encompassing 18 wildlife sanctuaries\, 
 conservation partnerships\, and widespread community and school programmin
 g.  In addition to her work at Mass Audubon\, she leads nature and mindf
 ulness practices. \n\nMass Audubon’s work in the Berkshires focuses on 
 land protection and habitat restoration\, inclusive and equit...
DTSTART;TZID=America/New_York:20230601T104500
DTEND;TZID=America/New_York:20230601T114500
END:VEVENT
END:VCALENDAR
