BEGIN:VCALENDAR
PRODID:-//eluceo/ical//2.0/EN
VERSION:2.0
CALSCALE:GREGORIAN
BEGIN:VEVENT
UID:a79b519b03c84b9cd9a5ab6a603de1e6
DTSTAMP:20260420T093234Z
SUMMARY:Get the Scoop...Jewish Community Day at High Lawn Farm
DESCRIPTION:Jewish Federation of the Berkshires\nJewish Federation of the B
 erkshires\nhttps://jewishberkshires.org/jewish-federation-of-the-berkshire
 s/super-tzedakah-jewish-communiity-day-362426\n\nSuper Tzedakah Week
DTSTART;TZID=America/New_York:20210523T130000
DTEND;TZID=America/New_York:20210523T150000
END:VEVENT
END:VCALENDAR
