BEGIN:VCALENDAR
PRODID:-//eluceo/ical//2.0/EN
VERSION:2.0
CALSCALE:GREGORIAN
BEGIN:VEVENT
UID:48b1eb92488f8e2786d07474e8f6351c
DTSTAMP:20260423T160834Z
SUMMARY:Canceled: Summer Picnic Featuring "The Berkshires Farm Table Cookbo
 ok"
DESCRIPTION:Jewish Federation of the Berkshires\nJewish Federation of the B
 erkshires\nhttps://jewishberkshires.org/jewish-federation-of-the-berkshire
 s/summer-picnic-featuring-the-berkshires-farm-table-cookbook-341041\n\nPic
 nic at Tanglewood
DTSTART;TZID=America/New_York:20200712T120000
DTEND;TZID=America/New_York:20200712T153000
END:VEVENT
END:VCALENDAR
