BEGIN:VCALENDAR
PRODID:-//eluceo/ical//2.0/EN
VERSION:2.0
CALSCALE:GREGORIAN
BEGIN:VEVENT
UID:70beff1bac35dc294a6706206bdedbe5
DTSTAMP:20260422T045311Z
SUMMARY:Summer Olympics Germany: 1936 and 1972
DESCRIPTION:Jewish Federation of the Berkshires\nJewish Federation of the B
 erkshires\nhttps://jewishberkshires.org/jewish-federation-of-the-berkshire
 s/summer-olympics-germany-1936-and-1972---354315\n\n via Zoom\n\nRegister
  Here\n\nAfter registering\, you will receive a confirmation email contain
 ing information about joining the meeting\n\n \n\nIn 1936\, Marty Glickma
 n and Sam Stoller were denied participation and Gretel Bergman was not all
 owed on the German Olympic team.  Some Americans boycotted thre Games to 
 delegitimize the Nazi regime.  Jesse Owens ruined Hitler's "coming out" p
 arty. In 1972\, Mark Spitz\, gold medalist\, was targeted during a terrori
 st attack in the Olympic Village.  ...
DTSTART;TZID=America/New_York:20200629T104500
DTEND;TZID=America/New_York:20200629T120000
END:VEVENT
END:VCALENDAR
