BEGIN:VCALENDAR
PRODID:-//eluceo/ical//2.0/EN
VERSION:2.0
CALSCALE:GREGORIAN
BEGIN:VEVENT
UID:046eecaf01f659d28191f9592e374c8a
DTSTAMP:20260421T232416Z
SUMMARY:StoryWalk® (and ice-cream!) to celebrate summer!
DESCRIPTION:Jewish Federation of the Berkshires\nJewish Federation of the B
 erkshires\nhttps://jewishberkshires.org/jewish-federation-of-the-berkshire
 s/storywalk-and-ice-cream-to-celebrate-summer-356993\n\nCome walk the Hous
 atonic Flats (439 Stockbridge Rd\, Great Barrington) where you’ll be abl
 e to read the PJ Library book Sadie\, Ori\, and Nuggles Go to Camp by Jami
 e Korngold along the way!
DTSTART;TZID=America/New_York:20200719T100000
DTEND;TZID=America/New_York:20200719T160000
END:VEVENT
END:VCALENDAR
