BEGIN:VCALENDAR
PRODID:-//eluceo/ical//2.0/EN
VERSION:2.0
CALSCALE:GREGORIAN
BEGIN:VEVENT
UID:ad9994046fd0846acee5743515937bfa
DTSTAMP:20260420T011757Z
SUMMARY:WILL BE RESCHEDULED - Stop the Bleed Training
DESCRIPTION:Jewish Federation of the Berkshires\nJewish Federation of the B
 erkshires\nhttps://jewishberkshires.org/jewish-federation-of-the-berkshire
 s/stop-the-bleed-training-340731\n\nThis FREE life-saving training is for 
 everyone\n\nYOU ARE THE HELP UNTIL HELP ARRIVES!\nStop the Bleed is a nati
 onal awareness campaign to empower each one of us to help in an emergency.
 \nThis 1-hour training will be presented by educators from the Trauma Care
  Program of Berkshire Medical Center.\n• Must be 18 years of age to atte
 nd training\n• Includes hands on demo and training\n• Pre-registration
  required. Sorry\, we cannot accommodate walk-ins\nADVANCE REGISTRATION RE
 QUIRED BY APRIL ...
DTSTART;TZID=America/New_York:20200507T183000
DTEND;TZID=America/New_York:20200507T193000
END:VEVENT
END:VCALENDAR
