BEGIN:VCALENDAR
PRODID:-//eluceo/ical//2.0/EN
VERSION:2.0
CALSCALE:GREGORIAN
BEGIN:VEVENT
UID:83c53bb1d1f73ab1e0877280ee67a160
DTSTAMP:20260422T065026Z
SUMMARY:Social Welfare History from Past to Present
DESCRIPTION:Jewish Federation of the Berkshires\nJewish Federation of the B
 erkshires\nhttps://jewishberkshires.org/jewish-federation-of-the-berkshire
 s/social-welfare-history-from-past-to-present-294398\n\nThe Jewish Federat
 ion Connecting with Community presents "Social Welfare History from Past t
 o Present" with Rosalind Kopfstein
DTSTART;TZID=America/New_York:20190117T104500
DTEND;TZID=America/New_York:20190117T120000
END:VEVENT
END:VCALENDAR
