BEGIN:VCALENDAR
PRODID:-//eluceo/ical//2.0/EN
VERSION:2.0
CALSCALE:GREGORIAN
BEGIN:VEVENT
UID:a5062d139ce3b885033f5eee05ae242e
DTSTAMP:20260425T222040Z
SUMMARY:Silver Wellness Series and Nutrition for Seniors
DESCRIPTION:Jewish Federation of the Berkshires\nJewish Federation of the B
 erkshires\nhttps://jewishberkshires.org/jewish-federation-of-the-berkshire
 s/silver-wellness-series-and-nutrition-for-seniors-208780\n\nThe Jewish Fe
 deration Connecting with Community series presents a Silver Wellness Serie
 s and Nutrition for Seniors.
DTSTART;TZID=America/New_York:20170320T104500
DTEND;TZID=America/New_York:20170320T120000
END:VEVENT
END:VCALENDAR
