BEGIN:VCALENDAR
PRODID:-//eluceo/ical//2.0/EN
VERSION:2.0
CALSCALE:GREGORIAN
BEGIN:VEVENT
UID:06c4453581397d42ef6af9772e514252
DTSTAMP:20260425T155818Z
SUMMARY:Share our Wisdom/ Harvest our Lives
DESCRIPTION:Jewish Federation of the Berkshires\nJewish Federation of the B
 erkshires\nhttps://jewishberkshires.org/jewish-federation-of-the-berkshire
 s/share-our-wisdom-harvest-our-lives-217909\n\nJewish Federation Connectin
 g with Community series presents "Share our Wisdom/ Harvest our Lives\," a
  group facilitation about aging.
DTSTART;TZID=America/New_York:20170220T104500
DTEND;TZID=America/New_York:20170220T120000
END:VEVENT
END:VCALENDAR
