BEGIN:VCALENDAR
PRODID:-//eluceo/ical//2.0/EN
VERSION:2.0
CALSCALE:GREGORIAN
BEGIN:VEVENT
UID:9012f5e7e2f66d31637eaa851fe674e9
DTSTAMP:20260420T110536Z
SUMMARY:Shanda: A Memoir of Shame and Secrecy with Letty Cottin Pogrebin
DESCRIPTION:Jewish Federation of the Berkshires\nJewish Federation of the B
 erkshires\nhttps://jewishberkshires.org/jewish-federation-of-the-berkshire
 s/shanda-a-memoir-of-shame-and-secrecy-with-letty-cottin-pogrebin-411795\n
 \nREGISTER HERE.\n\nKnosh and Knowledge is a monthly series sponsored by t
 he Jewish Federation of the Greater Berkshires.  This program is also par
 t of Jewish Literary Voices\, a Jewish Federation of the Berkshires Series
  in collaboration with The Jewish Book Council.\n\nLetty Cottin Pogrebin\,
  a founding editor of Ms. Magazine and Berkshires resident\, is a writer\,
  lecturer\, social justice activist\, and the author of twelve books -- te
 n nonfiction works and two novels.\n\nIn conversation with Ra...
DTSTART;TZID=America/New_York:20230714T104500
DTEND;TZID=America/New_York:20230714T120000
END:VEVENT
END:VCALENDAR
