BEGIN:VCALENDAR
PRODID:-//eluceo/ical//2.0/EN
VERSION:2.0
CALSCALE:GREGORIAN
BEGIN:VEVENT
UID:33fd1dbfa6f87b47d60b76a7af6a8b1a
DTSTAMP:20260420T100435Z
SUMMARY:Shakespeare\, Shylock and Anti-Semitism - two part series
DESCRIPTION:Jewish Federation of the Berkshires\nJewish Federation of the B
 erkshires\nhttps://jewishberkshires.org/jewish-federation-of-the-berkshire
 s/shakespeare-shylock-and-anti-semitism-two-part-series-220970\n\nThe Jewi
 sh Federation Connecting with Community series will show the film\, The Me
 rchant of Venice from 2004. Film version includes Al Pacino\, Ralph Feinne
 s\, Jeremy Irons and other well known actors.  The film will begin at 10:4
 5\, break for lunch at noon\, and finish after lunch\n\nThis film will be 
 followed on Thursday\, March 9 with Hugh Black who will discuss James S. S
 hapiro's book Shakespeare and the Jews\, to commemorate the 400th annivers
 ary of Shakespeare's death.
DTSTART;TZID=America/New_York:20170306T104500
DTEND;TZID=America/New_York:20170306T130000
END:VEVENT
END:VCALENDAR
