BEGIN:VCALENDAR
PRODID:-//eluceo/ical//2.0/EN
VERSION:2.0
CALSCALE:GREGORIAN
BEGIN:VEVENT
UID:5435fecd670e9d3913d3f6267994ae51
DTSTAMP:20260424T161922Z
SUMMARY:The Sacred Music of Jewish Istanbul
DESCRIPTION:Jewish Federation of the Berkshires\nJewish Federation of the B
 erkshires\nhttps://jewishberkshires.org/jewish-federation-of-the-berkshire
 s/shabbat-musical-practice-in-the-jewish-community-of-istanbul-325085\n\nK
 nosh & Knowledge The Sacred Music of Jewish Istanbul
DTSTART;TZID=America/New_York:20191206T104500
DTEND;TZID=America/New_York:20191206T120000
END:VEVENT
END:VCALENDAR
