BEGIN:VCALENDAR
PRODID:-//eluceo/ical//2.0/EN
VERSION:2.0
CALSCALE:GREGORIAN
BEGIN:VEVENT
UID:cc6abace5e555eb45ed78f91cd326443
DTSTAMP:20260420T215410Z
SUMMARY:Sex and Love Around the World - 92nd Street Y Lecture Series
DESCRIPTION:Jewish Federation of the Berkshires\nJewish Federation of the B
 erkshires\nhttps://jewishberkshires.org/jewish-federation-of-the-berkshire
 s/sex-and-love-around-the-world-92nd-street-y-lecture-series-260248\n\nJew
 ish Federation of the Berkshires\, in collaboration with Kimball Farms\, w
 ill screen thought provoking pre-recorded talks from the renowned 92nd Str
 eet Y in New York City.
DTSTART;TZID=America/New_York:20180815T140000
DTEND;TZID=America/New_York:20180815T160000
END:VEVENT
END:VCALENDAR
