BEGIN:VCALENDAR
PRODID:-//eluceo/ical//2.0/EN
VERSION:2.0
CALSCALE:GREGORIAN
BEGIN:VEVENT
UID:ff88af238cd0d54cf190ecf914b77879
DTSTAMP:20260425T191632Z
SUMMARY:Sesame: Global Recipes & Stories of an Ancient Seed
DESCRIPTION:Jewish Federation of the Berkshires\nJewish Federation of the B
 erkshires\nhttps://jewishberkshires.org/jewish-federation-of-the-berkshire
 s/sesame-global-recipes-stories-of-an-ancient-seed-494910\n\nVia Zoom.  R
 egister HERE.\n\nJewish Literary Voices: A Federation Series in collaborat
 ion with The Jewish Book Council\n\nIn celebration of Tu B’Shevat\, join
  Rachel Simons\, the founder of popular tahini outfit Seed+Mill in New Yor
 k’s historic Chelsea Market\, for a discussion of her new cookbook Sesam
 e which celebrates the evolution\, history\, and diversity of this classic
  ingredient.\n\nA clear\, approachable guide to the world of sesame\, from
  halva\, tahini\, and sesame oil\, to togarashi\, g...
DTSTART;TZID=America/New_York:20260205T190000
DTEND;TZID=America/New_York:20260205T200000
END:VEVENT
END:VCALENDAR
