BEGIN:VCALENDAR
PRODID:-//eluceo/ical//2.0/EN
VERSION:2.0
CALSCALE:GREGORIAN
BEGIN:VEVENT
UID:d55e42280c42ada0281f508c14caed75
DTSTAMP:20260424T043234Z
SUMMARY:Seniors Acting Up: A Look at Life from a Different Perspective
DESCRIPTION:Jewish Federation of the Berkshires\nJewish Federation of the B
 erkshires\nhttps://jewishberkshires.org/jewish-federation-of-the-berkshire
 s/seniors-acting-up-a-look-at-life-from-a-different-perspective-414756\n\n
 Please note:  Vaccinations for all those eligible are required.  Masks o
 ptional but encouraged.\n\nThere are so many ways to enjoy humor. One of t
 he best is when older people can get together and laugh. And laugh you wil
 l when you watch Seniors Acting Up perform staged readings of seven short 
 plays that have been picked by the group and their director\, Milton Lestz
 .\n\nThe group has very talented actors who have acted together for severa
 l years and some new faces: Tom and Laura Gardner\, Joh...
DTSTART;TZID=America/New_York:20220929T104500
DTEND;TZID=America/New_York:20220929T114500
END:VEVENT
END:VCALENDAR
